View In:
ArcGIS JavaScript
ArcGIS Online Map Viewer
ArcGIS Earth
Service Description: vm2018_tif
Name: vm2018_tif
Description:
Single Fused Map Cache: false
Extent:
XMin: 378720.0
YMin: 1016530.0
XMax: 451800.0
YMax: 1081000.0
Spatial Reference: 32618
(32618)
LatestVCSWkid(0)
Initial Extent:
XMin: 378720.0
YMin: 1016530.0
XMax: 451800.0
YMax: 1081000.0
Spatial Reference: 32618
(32618)
LatestVCSWkid(0)
Full Extent:
XMin: 378720.0
YMin: 1016530.0
XMax: 451800.0
YMax: 1081000.0
Spatial Reference: 32618
(32618)
LatestVCSWkid(0)
Pixel Size X: 10.0
Pixel Size Y: 10.0
Band Count: 10
Pixel Type: F32
RasterFunction Infos: {"rasterFunctionInfos": [{
"name": "None",
"description": "",
"help": ""
}]}
Mensuration Capabilities: Basic
Inspection Capabilities:
Has Histograms: true
Has Colormap: false
Has Multi Dimensions : false
Rendering Rule:
Min Scale: 0
Max Scale: 0
Copyright Text:
Service Data Type: esriImageServiceDataTypeGeneric
Min Values: 9.9999997473788E-5, 9.9999997473788E-5, 9.9999997473788E-5, 9.9999997473788E-5, 9.9999997473788E-5, 9.9999997473788E-5, 9.9999997473788E-5, 9.9999997473788E-5, 0.0010000000474975, 3.0000001424924E-4
Max Values: 1.2438999414444, 0.95590001344681, 0.81669998168945, 0.80110001564026, 0.79650002717972, 0.76590001583099, 0.83749997615814, 0.76700001955032, 0.79060000181198, 1.2663999795914
Mean Values: 0.029834854217104, 0.058023140300958, 0.052936735798877, 0.10123696357431, 0.20790140571906, 0.24566731951597, 0.25216712022806, 0.27936643360794, 0.21992455246886, 0.12329217248096
Standard Deviation Values: 0.018028114656338, 0.021400067811917, 0.031574956663164, 0.033974420588603, 0.063353555790986, 0.077149531118059, 0.080408535192728, 0.084705150401573, 0.092747847818046, 0.06347532159297
Object ID Field:
Fields:
None
Default Mosaic Method: Center
Allowed Mosaic Methods:
SortField:
SortValue: null
Mosaic Operator: First
Default Compression Quality: 75
Default Resampling Method: Bilinear
Max Record Count: null
Max Image Height: 4100
Max Image Width: 15000
Max Download Image Count: null
Max Mosaic Image Count: null
Allow Raster Function: true
Allow Copy: true
Allow Analysis: true
Allow Compute TiePoints: false
Supports Statistics: false
Supports Advanced Queries: false
Use StandardizedQueries: true
Raster Type Infos:
Name: Raster Dataset
Description: Compatible con todos los datasets de rĂ¡steres de ArcGIS
Help:
Has Raster Attribute Table: false
Edit Fields Info: null
Ownership Based AccessControl For Rasters: null
Child Resources:
Info
Histograms
Statistics
Key Properties
Legend
Raster Function Infos
Supported Operations:
Export Image
Identify
Measure
Compute Histograms
Compute Statistics Histograms
Get Samples
Compute Class Statistics
Query Boundary
Compute Pixel Location
Compute Angles
Validate
Project