{
 "currentVersion": 11.4,
 "serviceDescription": "vm2018_tif",
 "name": "vm2018_tif",
 "description": "",
 "extent": {
  "xmin": 378720,
  "ymin": 1016530,
  "xmax": 451800,
  "ymax": 1081000,
  "spatialReference": {
   "wkid": 32618,
   "latestWkid": 32618
  }
 },
 "initialExtent": {
  "xmin": 378720,
  "ymin": 1016530,
  "xmax": 451800,
  "ymax": 1081000,
  "spatialReference": {
   "wkid": 32618,
   "latestWkid": 32618
  }
 },
 "fullExtent": {
  "xmin": 378720,
  "ymin": 1016530,
  "xmax": 451800,
  "ymax": 1081000,
  "spatialReference": {
   "wkid": 32618,
   "latestWkid": 32618
  }
 },
 "sortableFields": "",
 "bandCount": 10,
 "pixelType": "F32",
 "minValues": [
  9.9999997473788E-5,
  9.9999997473788E-5,
  9.9999997473788E-5,
  9.9999997473788E-5,
  9.9999997473788E-5,
  9.9999997473788E-5,
  9.9999997473788E-5,
  9.9999997473788E-5,
  0.0010000000474975,
  3.0000001424924E-4
 ],
 "maxValues": [
  1.2438999414444,
  0.95590001344681,
  0.81669998168945,
  0.80110001564026,
  0.79650002717972,
  0.76590001583099,
  0.83749997615814,
  0.76700001955032,
  0.79060000181198,
  1.2663999795914
 ],
 "meanValues": [
  0.029834854217104,
  0.058023140300958,
  0.052936735798877,
  0.10123696357431,
  0.20790140571906,
  0.24566731951597,
  0.25216712022806,
  0.27936643360794,
  0.21992455246886,
  0.12329217248096
 ],
 "stdvValues": [
  0.018028114656338,
  0.021400067811917,
  0.031574956663164,
  0.033974420588603,
  0.063353555790986,
  0.077149531118059,
  0.080408535192728,
  0.084705150401573,
  0.092747847818046,
  0.06347532159297
 ],
 "hasMultidimensions": false,
 "pixelSizeX": 10,
 "pixelSizeY": 10,
 "meanPixelSize": 10,
 "datasetFormat": "TIFF",
 "uncompressedSize": 1884587040,
 "blockWidth": 128,
 "blockHeight": 128,
 "compressionType": "None",
 "bandNames": [
  "Band_1",
  "Band_2",
  "Band_3",
  "Band_4",
  "Band_5",
  "Band_6",
  "Band_7",
  "Band_8",
  "Band_9",
  "Band_10"
 ],
 "allowCopy": true,
 "allowAnalysis": true,
 "itemAccess": false,
 "inspectionCapabilities": "",
 "noDataValue": -3.4028234663852886E38,
 "noDataValues": [
  -3.4028234663852886E38,
  -3.4028234663852886E38,
  -3.4028234663852886E38,
  -3.4028234663852886E38,
  -3.4028234663852886E38,
  -3.4028234663852886E38,
  -3.4028234663852886E38,
  -3.4028234663852886E38,
  -3.4028234663852886E38,
  -3.4028234663852886E38
 ],
 "minPixelSize": 0,
 "maxPixelSize": 0,
 "copyrightText": "",
 "serviceDataType": "esriImageServiceDataTypeGeneric",
 "serviceSourceType": "esriImageServiceSourceTypeDataset",
 "objectIdField": "",
 "fields": [],
 "capabilities": "Image,Metadata,Mensuration",
 "defaultMosaicMethod": "Center",
 "allowedMosaicMethods": "",
 "sortField": "",
 "sortValue": null,
 "sortAscending": true,
 "mosaicOperator": "First",
 "defaultCompressionQuality": 75,
 "defaultResamplingMethod": "Bilinear",
 "maxImageHeight": 4100,
 "maxImageWidth": 15000,
 "allowRasterFunction": true,
 "rasterFunctionInfos": [
  {
   "name": "None",
   "description": "",
   "help": ""
  }
 ],
 "rasterTypeInfos": [
  {
   "name": "Raster Dataset",
   "description": "Supports all ArcGIS Raster Datasets",
   "help": ""
  }
 ],
 "mensurationCapabilities": "Basic",
 "hasHistograms": true,
 "hasColormap": false,
 "hasRasterAttributeTable": false,
 "minScale": 0,
 "maxScale": 0,
 "exportTilesAllowed": false,
 "supportsStatistics": false,
 "supportsAdvancedQueries": false,
 "editFieldsInfo": null,
 "ownershipBasedAccessControlForRasters": null,
 "allowComputeTiePoints": false,
 "useStandardizedQueries": true,
 "advancedQueryCapabilities": {
  "useStandardizedQueries": true,
  "supportsStatistics": false,
  "supportsOrderBy": false,
  "supportsDistinct": false,
  "supportsPagination": false
 },
 "spatialReference": {
  "wkid": 32618,
  "latestWkid": 32618
 }
}
