View In:
ArcGIS JavaScript
ArcGIS Online Map Viewer
ArcGIS Earth
Service Description: vm2023_tif
Name: vm2023_tif
Description:
Single Fused Map Cache: false
Extent:
XMin: 378720.0
YMin: 1016530.0
XMax: 451800.0
YMax: 1081000.0
Spatial Reference: 32618
(32618)
LatestVCSWkid(0)
Initial Extent:
XMin: 378720.0
YMin: 1016530.0
XMax: 451800.0
YMax: 1081000.0
Spatial Reference: 32618
(32618)
LatestVCSWkid(0)
Full Extent:
XMin: 378720.0
YMin: 1016530.0
XMax: 451800.0
YMax: 1081000.0
Spatial Reference: 32618
(32618)
LatestVCSWkid(0)
Pixel Size X: 10.0
Pixel Size Y: 10.0
Band Count: 10
Pixel Type: F32
RasterFunction Infos: {"rasterFunctionInfos": [{
"name": "None",
"description": "",
"help": ""
}]}
Mensuration Capabilities: Basic
Inspection Capabilities:
Has Histograms: true
Has Colormap: false
Has Multi Dimensions : false
Rendering Rule:
Min Scale: 0
Max Scale: 0
Copyright Text:
Service Data Type: esriImageServiceDataTypeGeneric
Min Values: 9.9999997473788E-5, 3.9999998989515E-4, 1.9999999494758E-4, 9.9999997473788E-5, 9.9999997473788E-5, 9.9999997473788E-5, 9.9999997473788E-5, 9.9999997473788E-5, 0.0035999999381602, 0.0015000000130385
Max Values: 0.62639999389648, 0.68879997730255, 0.74479997158051, 0.81770002841949, 0.79640001058578, 0.78670001029968, 0.79040002822876, 0.80119997262955, 0.8115000128746, 1.614599943161
Mean Values: 0.051322381754395, 0.075370823351326, 0.080327899997208, 0.12506055316896, 0.20279246045467, 0.23493007342976, 0.24548759870349, 0.26895543209714, 0.26392893224484, 0.16145203444883
Standard Deviation Values: 0.020226614978644, 0.022627712613714, 0.036433574651072, 0.036812550968818, 0.054280261342079, 0.065454975802891, 0.071135767682963, 0.074962849777806, 0.10946541952816, 0.077798859387681
Object ID Field:
Fields:
None
Default Mosaic Method: Center
Allowed Mosaic Methods:
SortField:
SortValue: null
Mosaic Operator: First
Default Compression Quality: 75
Default Resampling Method: Bilinear
Max Record Count: null
Max Image Height: 4100
Max Image Width: 15000
Max Download Image Count: null
Max Mosaic Image Count: null
Allow Raster Function: true
Allow Copy: true
Allow Analysis: true
Allow Compute TiePoints: false
Supports Statistics: false
Supports Advanced Queries: false
Use StandardizedQueries: true
Raster Type Infos:
Name: Raster Dataset
Description: Supports all ArcGIS Raster Datasets
Help:
Has Raster Attribute Table: false
Edit Fields Info: null
Ownership Based AccessControl For Rasters: null
Child Resources:
Info
Histograms
Statistics
Key Properties
Legend
Raster Function Infos
Supported Operations:
Export Image
Identify
Measure
Compute Histograms
Compute Statistics Histograms
Get Samples
Compute Class Statistics
Query Boundary
Compute Pixel Location
Compute Angles
Validate
Project