View In:
ArcGIS JavaScript
ArcGIS Online Map Viewer
ArcGIS Earth
Service Description: vm2015_tif
Name: vm2015_tif
Description:
Single Fused Map Cache: false
Extent:
XMin: -76.10428272379333
YMin: 9.194436596020127
XMax: -75.43925991895965
YMax: 9.778611025283052
Spatial Reference: 4326
(4326)
LatestVCSWkid(0)
Initial Extent:
XMin: -76.10428272379333
YMin: 9.194436596020127
XMax: -75.43925991895965
YMax: 9.778611025283052
Spatial Reference: 4326
(4326)
LatestVCSWkid(0)
Full Extent:
XMin: -76.10428272379333
YMin: 9.194436596020127
XMax: -75.43925991895965
YMax: 9.778611025283052
Spatial Reference: 4326
(4326)
LatestVCSWkid(0)
Pixel Size X: 8.98315284119523E-5
Pixel Size Y: 8.983152841195213E-5
Band Count: 10
Pixel Type: S16
RasterFunction Infos: {"rasterFunctionInfos": [{
"name": "None",
"description": "",
"help": ""
}]}
Mensuration Capabilities: Basic
Inspection Capabilities:
Has Histograms: true
Has Colormap: false
Has Multi Dimensions : false
Rendering Rule:
Min Scale: 0
Max Scale: 0
Copyright Text:
Service Data Type: esriImageServiceDataTypeGeneric
Min Values: -45, 219, 103, 100, 81, 57, 148, -36, 6, 7
Max Values: 6547, 6808, 6447, 5306, 5637, 6219, 7128, 6910, 15628, 17087
Mean Values: 418.27325520335, 730.93360027973, 584.93248844246, 943.5832643727, 2311.616076943, 2848.7564475201, 2631.3336086844, 3320.6634246065, 1878.2307129679, 881.69062090974
Standard Deviation Values: 136.89776522765, 184.29276478947, 249.44744215465, 254.00834192704, 655.24094031056, 831.47410747057, 798.82472129718, 982.21380953409, 745.36979989444, 440.92480127297
Object ID Field:
Fields:
None
Default Mosaic Method: Center
Allowed Mosaic Methods:
SortField:
SortValue: null
Mosaic Operator: First
Default Compression Quality: 75
Default Resampling Method: Bilinear
Max Record Count: null
Max Image Height: 4100
Max Image Width: 15000
Max Download Image Count: null
Max Mosaic Image Count: null
Allow Raster Function: true
Allow Copy: true
Allow Analysis: true
Allow Compute TiePoints: false
Supports Statistics: false
Supports Advanced Queries: false
Use StandardizedQueries: true
Raster Type Infos:
Name: Raster Dataset
Description: Supports all ArcGIS Raster Datasets
Help:
Has Raster Attribute Table: false
Edit Fields Info: null
Ownership Based AccessControl For Rasters: null
Child Resources:
Info
Histograms
Statistics
Key Properties
Legend
Raster Function Infos
Supported Operations:
Export Image
Identify
Measure
Compute Histograms
Compute Statistics Histograms
Get Samples
Compute Class Statistics
Query Boundary
Compute Pixel Location
Compute Angles
Validate
Project