<?xml version="1.0" encoding="UTF-8" standalone="no"?>
<metadata xml:lang="es">
<Esri>
<CreaDate>20250815</CreaDate>
<CreaTime>17431000</CreaTime>
<ArcGISFormat>1.0</ArcGISFormat>
<SyncOnce>FALSE</SyncOnce>
<DataProperties>
<lineage>
<Process Date="20250815" Name="" Time="174310" ToolSource="c:\program files\arcgis\pro\Resources\ArcToolbox\toolboxes\Data Management Tools.tbx\DefineProjection" export="">DefineProjection F:\1SIG16\Datos_SIG16\2025\Proyecto_LACUNA\publicacion_raster\Mangrove_Satellite_AGB-AGC\Mangrove_Satellite_AGB-AGC\Mangrove_Satellite_AGB_2.tif PROJCS["WGS_1984_UTM_Zone_18N",GEOGCS["GCS_WGS_1984",DATUM["D_WGS_1984",SPHEROID["WGS_1984",6378137.0,298.257223563]],PRIMEM["Greenwich",0.0],UNIT["Degree",0.0174532925199433]],PROJECTION["Transverse_Mercator"],PARAMETER["False_Easting",500000.0],PARAMETER["False_Northing",0.0],PARAMETER["Central_Meridian",-75.0],PARAMETER["Scale_Factor",0.9996],PARAMETER["Latitude_Of_Origin",0.0],UNIT["Meter",1.0]]</Process>
<Process Date="20250815" Name="" Time="174723" ToolSource="c:\program files\arcgis\pro\Resources\ArcToolbox\toolboxes\Data Management Tools.tbx\Rename" export="">Rename F:\1SIG16\Datos_SIG16\2025\Proyecto_LACUNA\publicacion_raster\Mangrove_Satellite_AGB-AGC\Mangrove_Satellite_AGB-AGC\Mangrove_Satellite_AGB_2.tif F:\1SIG16\Datos_SIG16\2025\Proyecto_LACUNA\publicacion_raster\Mangrove_Satellite_AGB-AGC\Mangrove_Satellite_AGB-AGC\Mangrove_Satellite_AGB.tif RasterDataset</Process>
</lineage>
<itemProps>
<itemName Sync="TRUE">Mangrove_Satellite_AGB.tif</itemName>
<itemLocation>
<linkage Sync="TRUE">file://F:\1SIG16\Datos_SIG16\2025\Proyecto_LACUNA\publicacion_raster\Mangrove_Satellite_AGB-AGC_2\Mangrove_Satellite_AGB-AGC\Mangrove_Satellite_AGB.tif</linkage>
<protocol Sync="TRUE">Local Area Network</protocol>
</itemLocation>
<nativeExtBox>
<westBL Sync="TRUE">517588.364252</westBL>
<eastBL Sync="TRUE">541558.364252</eastBL>
<southBL Sync="TRUE">1211834.372620</southBL>
<northBL Sync="TRUE">1225094.372620</northBL>
<exTypeCode Sync="TRUE">1</exTypeCode>
</nativeExtBox>
<imsContentType>002</imsContentType>
</itemProps>
<coordRef>
<type Sync="TRUE">Projected</type>
<geogcsn Sync="TRUE">GCS_WGS_1984</geogcsn>
<csUnits Sync="TRUE">Linear Unit: Meter (1.000000)</csUnits>
<projcsn Sync="TRUE">WGS_1984_UTM_Zone_18N</projcsn>
<peXml Sync="TRUE">&lt;ProjectedCoordinateSystem xsi:type='typens:ProjectedCoordinateSystem' xmlns:xsi='http://www.w3.org/2001/XMLSchema-instance' xmlns:xs='http://www.w3.org/2001/XMLSchema' xmlns:typens='http://www.esri.com/schemas/ArcGIS/3.4.0'&gt;&lt;WKT&gt;PROJCS[&amp;quot;WGS_1984_UTM_Zone_18N&amp;quot;,GEOGCS[&amp;quot;GCS_WGS_1984&amp;quot;,DATUM[&amp;quot;D_WGS_1984&amp;quot;,SPHEROID[&amp;quot;WGS_1984&amp;quot;,6378137.0,298.257223563]],PRIMEM[&amp;quot;Greenwich&amp;quot;,0.0],UNIT[&amp;quot;Degree&amp;quot;,0.0174532925199433]],PROJECTION[&amp;quot;Transverse_Mercator&amp;quot;],PARAMETER[&amp;quot;False_Easting&amp;quot;,500000.0],PARAMETER[&amp;quot;False_Northing&amp;quot;,0.0],PARAMETER[&amp;quot;Central_Meridian&amp;quot;,-75.0],PARAMETER[&amp;quot;Scale_Factor&amp;quot;,0.9996],PARAMETER[&amp;quot;Latitude_Of_Origin&amp;quot;,0.0],UNIT[&amp;quot;Meter&amp;quot;,1.0],AUTHORITY[&amp;quot;EPSG&amp;quot;,32618]]&lt;/WKT&gt;&lt;XOrigin&gt;-5120900&lt;/XOrigin&gt;&lt;YOrigin&gt;-9998100&lt;/YOrigin&gt;&lt;XYScale&gt;450445547.3910538&lt;/XYScale&gt;&lt;ZOrigin&gt;-100000&lt;/ZOrigin&gt;&lt;ZScale&gt;10000&lt;/ZScale&gt;&lt;MOrigin&gt;-100000&lt;/MOrigin&gt;&lt;MScale&gt;10000&lt;/MScale&gt;&lt;XYTolerance&gt;0.001&lt;/XYTolerance&gt;&lt;ZTolerance&gt;0.001&lt;/ZTolerance&gt;&lt;MTolerance&gt;0.001&lt;/MTolerance&gt;&lt;HighPrecision&gt;true&lt;/HighPrecision&gt;&lt;WKID&gt;32618&lt;/WKID&gt;&lt;LatestWKID&gt;32618&lt;/LatestWKID&gt;&lt;/ProjectedCoordinateSystem&gt;</peXml>
</coordRef>
<RasterProperties>
<General>
<PixelDepth Sync="TRUE">64</PixelDepth>
<HasColormap Sync="TRUE">FALSE</HasColormap>
<CompressionType Sync="TRUE">None</CompressionType>
<NumBands Sync="TRUE">1</NumBands>
<Format Sync="TRUE">TIFF</Format>
<HasPyramids Sync="TRUE">TRUE</HasPyramids>
<SourceType Sync="TRUE">continuous</SourceType>
<PixelType Sync="TRUE">double precision</PixelType>
<NoDataValue Sync="TRUE">-9999</NoDataValue>
</General>
</RasterProperties>
</DataProperties>
<SyncDate>20250815</SyncDate>
<SyncTime>18020700</SyncTime>
<ModDate>20250815</ModDate>
<ModTime>18041200</ModTime>
<scaleRange>
<minScale>150000000</minScale>
<maxScale>5000</maxScale>
</scaleRange>
<ArcGISProfile>ISO19139</ArcGISProfile>
</Esri>
<mdLang>
<languageCode value="eng"/>
<countryCode Sync="TRUE" value="419"/>
</mdLang>
<mdChar>
<CharSetCd value="004"/>
</mdChar>
<mdHrLv>
<ScopeCd value="005"/>
</mdHrLv>
<mdHrLvName>dataset</mdHrLvName>
<mdContact>
<rpIndName>Institute of Marine and Coastal Research (INVEMAR) </rpIndName>
<rpOrgName>Institute of Marine and Coastal Research (INVEMAR) </rpOrgName>
<rpCntInfo>
<cntPhone>
<voiceNum>+57 60 5 4328600 </voiceNum>
<faxNum>+57 60 5 4328694</faxNum>
</cntPhone>
<cntAddress>
<delPoint>Calle 25 No. 2-55, Playa Salguero</delPoint>
<city>Santa Marta D.T.CH</city>
<adminArea>Magdalena </adminArea>
<postCode>470006</postCode>
<country>CO</country>
<eMailAdd>correspondencia@invemar.org.co</eMailAdd>
</cntAddress>
</rpCntInfo>
<role>
<RoleCd value="011"/>
</role>
</mdContact>
<mdContact>
<rpIndName>Dayana Alvarado</rpIndName>
<rpOrgName>Institute of Marine and Coastal Research (INVEMAR) </rpOrgName>
<rpPosName>Scientific researcher</rpPosName>
<rpCntInfo>
<cntPhone>
<voiceNum>+57 60 5 4328600 </voiceNum>
<faxNum>+57 60 5 4328694</faxNum>
</cntPhone>
<cntAddress>
<delPoint>Calle 25 No. 2-55, Playa Salguero</delPoint>
<city>Santa Marta D.T.CH</city>
<adminArea>Magdalena </adminArea>
<postCode>470006</postCode>
<country>CO</country>
<eMailAdd>jefatura.labsis@invemar.org.co</eMailAdd>
</cntAddress>
</rpCntInfo>
<role>
<RoleCd value="006"/>
</role>
</mdContact>
<mdContact>
<rpIndName>Laboratorio de Servicios de Información – LABSIS </rpIndName>
<rpOrgName>Institute of Marine and Coastal Research (INVEMAR) </rpOrgName>
<rpPosName>Coordinación Investigación e Información para la Gestión Marina y Costera - GEZ</rpPosName>
<rpCntInfo>
<cntPhone>
<voiceNum>+57 60 5 4328600 </voiceNum>
<faxNum>+57 60 5 4328694</faxNum>
</cntPhone>
<cntAddress>
<delPoint>Calle 25 No. 2-55, Playa Salguero</delPoint>
<city>Santa Marta D.T.CH</city>
<adminArea>Magdalena </adminArea>
<postCode>470006</postCode>
<country>CO</country>
<eMailAdd>jefatura.labsis@invemar.org.co</eMailAdd>
</cntAddress>
</rpCntInfo>
<role>
<RoleCd value="007"/>
</role>
</mdContact>
<mdContact>
<rpIndName>Laboratorio de Servicios de Información – LABSIS </rpIndName>
<rpOrgName>Institute of Marine and Coastal Research (INVEMAR) </rpOrgName>
<rpPosName>Jefatura Laboratorio de Servicios de Información – LABSIS </rpPosName>
<rpCntInfo>
<cntPhone>
<voiceNum>+57 60 5 4328600 </voiceNum>
<faxNum>+57 60 5 4328694</faxNum>
</cntPhone>
<cntAddress>
<delPoint>Calle 25 No. 2-55, Playa Salguero</delPoint>
<city>Santa Marta D.T.CH</city>
<adminArea>Magdalena </adminArea>
<postCode>470006</postCode>
<country>CO</country>
<eMailAdd>jefatura.labsis@invemar.org.co</eMailAdd>
</cntAddress>
</rpCntInfo>
<role>
<RoleCd value="002"/>
</role>
</mdContact>
<mdDateSt Sync="TRUE">20250815</mdDateSt>
<mdStanName>ArcGIS Metadata</mdStanName>
<mdStanVer>1.0</mdStanVer>
<distInfo>
<distFormat>
<formatName>File Geodatabase Feature Class</formatName>
<formatVer>10</formatVer>
</distFormat>
<distFormat>
<formatName>File Geodatabase </formatName>
<formatVer>10</formatVer>
</distFormat>
</distInfo>
<dataIdInfo>
<idCitation>
<resTitle>Digital_model_of_AGB_VIPIS_2025</resTitle>
<resAltTitle>Man_AGB</resAltTitle>
<date>
<createDate>2025-03-18</createDate>
</date>
<presForm>
<PresFormCd value="007"/>
</presForm>
</idCitation>
<idAbs>&lt;div style='text-align:Left;'&gt;&lt;div&gt;&lt;p&gt;&lt;span&gt;This product is a raster map in GeoTIFF format with a spatial resolution of 10 m/px, representing the estimated Aboveground Biomass (AGB) of mangroves in the northwestern sector of the Vía Parque Isla de Salamanca (VIPIS) in 2025. The area is located on the Caribbean coast of Colombia, in the department of Magdalena. The dataset was generated through the integration of Sentinel-1 (radar) and Sentinel-2 (optical) satellite imagery, canopy height data, and field measurements from 20 plots, complemented with additional measurements from Colombian mangroves with similar ecological characteristics available in SIGMA.The methodology employed machine learning techniques (Random Forest) to train and validate predictive AGB models, using validation metrics such as the Root Mean Square Error (RMSE = 152.545). Satellite imagery was processed in Google Earth Engine to generate dry-season mosaics (January–April 2025) and extract relevant spectral, textural, and structural variables. The mapped area covers approximately 6,000 hectares of mangroves within the northwestern boundaries of VIPIS, projected in UTM Zone 18N (EPSG:32618). This product is part of the Quantifying Colombian Mangroves Aboveground Biomass and Carbon Content – VIPIS Case (2025) project, developed by CTTC and INVEMAR.&lt;/span&gt;&lt;/p&gt;&lt;/div&gt;&lt;/div&gt;</idAbs>
<idPurp>The primary objective of this research was to provide open access to the constructed database, allowing the public to perform analyses using machine learning (ML) applications. The information collected in the field facilitated the development of robust models for estimating Aboveground Biomass (AGB) and Aboveground Carbon (AGC) using GIS and remote sensing tools.
The dataset will also contribute to the generation of information, analyses, techniques, and methodologies associated with these ecosystems, with a focus on their preservation and conservation.</idPurp>
<idCredit>This information was generated as part of a project carried out in collaboration between the Institute of Marine and Coastal Research (INVEMAR) and the Centre Tecnològic de Telecomunicacions de Catalunya (CTTC). This work was carried out with support from Lacuna Fund and Deutsche Gesellschaft für Internationale Zusammenarbeit (GIZ).
The views expressed herein do not necessarily represent those of Lacuna Fund, its Steering Committee, its funders, or Meridian Institute.</idCredit>
<idPoC>
<rpIndName>Institute of Marine and Coastal Research (INVEMAR) </rpIndName>
<rpOrgName>Institute of Marine and Coastal Research (INVEMAR) </rpOrgName>
<rpCntInfo>
<cntPhone>
<voiceNum>+57 60 5 4328600 </voiceNum>
<faxNum>+57 60 5 4328694</faxNum>
</cntPhone>
<cntAddress>
<delPoint>Calle 25 No. 2-55, Playa Salguero</delPoint>
<city>Santa Marta D.T.CH</city>
<adminArea>Magdalena </adminArea>
<postCode>470006</postCode>
<country>CO</country>
<eMailAdd>correspondencia@invemar.org.co</eMailAdd>
</cntAddress>
</rpCntInfo>
<role>
<RoleCd value="011"/>
</role>
</idPoC>
<idPoC>
<rpIndName>Laboratorio de Servicios de Información – LABSIS </rpIndName>
<rpOrgName>Institute of Marine and Coastal Research (INVEMAR) </rpOrgName>
<rpPosName>Coordinación Investigación e Información para la Gestión Marina y Costera - GEZ</rpPosName>
<rpCntInfo>
<cntPhone>
<voiceNum>+57 60 5 4328600 </voiceNum>
<faxNum>+57 60 5 4328694</faxNum>
</cntPhone>
<cntAddress>
<delPoint>Calle 25 No. 2-55, Playa Salguero</delPoint>
<city>Santa Marta D.T.CH</city>
<adminArea>Magdalena </adminArea>
<postCode>470006</postCode>
<country>CO</country>
<eMailAdd>jefatura.labsis@invemar.org.co</eMailAdd>
</cntAddress>
</rpCntInfo>
<role>
<RoleCd value="007"/>
</role>
</idPoC>
<idPoC>
<rpIndName>Laboratorio de Servicios de Información – LABSIS </rpIndName>
<rpOrgName>Institute of Marine and Coastal Research (INVEMAR) </rpOrgName>
<rpPosName>Jefatura Laboratorio de Servicios de Información – LABSIS </rpPosName>
<rpCntInfo>
<cntPhone>
<voiceNum>+57 60 5 4328600 </voiceNum>
<faxNum>+57 60 5 4328694</faxNum>
</cntPhone>
<cntAddress>
<delPoint>Calle 25 No. 2-55, Playa Salguero</delPoint>
<city>Santa Marta D.T.CH</city>
<adminArea>Magdalena </adminArea>
<postCode>470006</postCode>
<country>CO</country>
<eMailAdd>jefatura.labsis@invemar.org.co</eMailAdd>
</cntAddress>
</rpCntInfo>
<role>
<RoleCd value="002"/>
</role>
</idPoC>
<resMaint>
<maintFreq>
<MaintFreqCd value="009"/>
</maintFreq>
</resMaint>
<placeKeys>
<keyword>Caribbean Sea</keyword>
<keyword>VIPIS</keyword>
<keyword>Colombia</keyword>
</placeKeys>
<themeKeys>
<thesaName>
<resTitle>Mangroves</resTitle>
<date>
<createDate>2025-03-18</createDate>
</date>
</thesaName>
<keyword>Mangroves</keyword>
<keyword>Aboveground Biomass</keyword>
<keyword>Aboveground Carbon</keyword>
</themeKeys>
<searchKeys>
<keyword>Caribbean Sea</keyword>
<keyword>VIPIS</keyword>
<keyword>Colombia</keyword>
<keyword>Mangroves</keyword>
<keyword>Aboveground Biomass</keyword>
<keyword>Aboveground Carbon</keyword>
</searchKeys>
<resConst>
<Consts>
<useLimit>&lt;div style='text-align:Left;'&gt;&lt;div&gt;&lt;p&gt;&lt;span&gt;According to the legal analysis conducted by the entity, this product is publicly accessible to any user and does not contain classified or restricted information, allowing its use without violating current legal regulations, in accordance with the provisions of Law 1712 of 2014. To use it, the source 'Instituto de Investigaciones Marinas y Costeras – INVEMAR' must be cited, in compliance with copyright regulations. Information classification: Public information for external use.The views expressed herein do not necessarily represent those of Lacuna Fund, its Steering Committee, its funders, or Meridian Institute.&lt;/span&gt;&lt;/p&gt;&lt;/div&gt;&lt;/div&gt;</useLimit>
</Consts>
</resConst>
<aggrInfo>
<aggrDSName>
<resTitle>Quantifying Colombian Mangroves Aboveground Biomass and Carbon Content – VIPIS case</resTitle>
<resAltTitle>Proyecto_LACUNA</resAltTitle>
<date>
<createDate>2025-02-03</createDate>
</date>
<otherCitDet>INVEMAR - CTTC - LACUNA</otherCitDet>
</aggrDSName>
<assocType>
<AscTypeCd value="001"/>
</assocType>
</aggrInfo>
<spatRpType>
<SpatRepTypCd value="002"/>
</spatRpType>
<dataScale>
<equScale>
<rfDenom>10</rfDenom>
</equScale>
</dataScale>
<dataLang>
<languageCode value="eng"/>
<countryCode Sync="TRUE" value="419"/>
</dataLang>
<dataChar>
<CharSetCd value="004"/>
</dataChar>
<envirDesc>Microsoft Windows 10 Version 10.0 (Build 19045) ; Esri ArcGIS 13.3.2.52636</envirDesc>
<dataExt>
<exDesc>Western Sector of Vía Parque Isla de Salamanca (VPIS). Caribbean. Colombia</exDesc>
<geoEle>
<GeoDesc>
<exTypeCode>false</exTypeCode>
</GeoDesc>
</geoEle>
</dataExt>
<dataExt>
<geoEle>
<GeoBndBox>
<exTypeCode>true</exTypeCode>
<westBL>-74.820058</westBL>
<eastBL>-74.671102</eastBL>
<southBL>10.965985</southBL>
<northBL>11.07013</northBL>
</GeoBndBox>
</geoEle>
</dataExt>
<dataExt>
<geoEle>
<GeoBndBox>
<exTypeCode>true</exTypeCode>
<westBL>-74.820043</westBL>
<eastBL>-74.671159</eastBL>
<southBL>10.96602</southBL>
<northBL>11.07009</northBL>
</GeoBndBox>
</geoEle>
</dataExt>
<dataExt>
<geoEle>
<GeoBndBox>
<exTypeCode>true</exTypeCode>
<westBL>-74.83902</westBL>
<eastBL>-74.619478</eastBL>
<southBL>10.962275</southBL>
<northBL>11.082392</northBL>
</GeoBndBox>
</geoEle>
</dataExt>
<dataExt>
<geoEle>
<GeoBndBox esriExtentType="search">
<exTypeCode Sync="TRUE">1</exTypeCode>
<westBL Sync="TRUE">-74.839020</westBL>
<eastBL Sync="TRUE">-74.619478</eastBL>
<northBL Sync="TRUE">11.082392</northBL>
<southBL Sync="TRUE">10.962275</southBL>
</GeoBndBox>
</geoEle>
</dataExt>
<tpCat>
<TopicCatCd value="007"/>
</tpCat>
<tpCat>
<TopicCatCd value="010"/>
</tpCat>
</dataIdInfo>
<mdMaint>
<maintFreq>
<MaintFreqCd value="009"/>
</maintFreq>
</mdMaint>
<mdConst>
<Consts>
<useLimit>According to the legal analysis conducted by the entity, this product is publicly accessible to any user and does not contain classified or restricted information, allowing its use without violating current legal regulations, in accordance with the provisions of Law 1712 of 2014. To use it, the source 'Instituto de Investigaciones Marinas y Costeras – INVEMAR' must be cited, in compliance with copyright regulations. Information classification: Public information for external use.The views expressed herein do not necessarily represent those of Lacuna Fund, its Steering Committee, its funders, or Meridian Institute.</useLimit>
</Consts>
</mdConst>
<dqInfo>
<dqScope>
<scpLvl>
<ScopeCd value="009"/>
</scpLvl>
<scpLvlDesc>
<attribSet>ID_plot</attribSet>
</scpLvlDesc>
</dqScope>
<report type="DQTopConsis">
<evalMethType>
<EvalMethTypeCd value="001"/>
</evalMethType>
<measResult>
<QuanResult>
<quanValUnit>
<UOM gmlID="IDHNMY3TF5OAICJTIHW4QVJEVFLMIBMTTDCOMFQVKHONWNTLKHJSQF">
<gmlIdent codeSpace="GML_UomSymbol">Unified Code of Units of Measure</gmlIdent>
<unitSymbol codeSpace="http://aurora.regenstrief.org/UCUM">ar</unitSymbol>
</UOM>
</quanValUnit>
</QuanResult>
</measResult>
</report>
<dataLineage>
<statement>In the first step, the area of interest (AOI) was stratified using the 30-meter resolution layer developed by Simard et al. (2019). This layer was reclassified into three biomass strata-high, medium, and low-using the Natural Breaks methodology, which groups similar values while maximizing differences between classes.
The georeferencing of tree individuals was done using a Trimble collector with an antenna, employing real-time sub-meter RTX correction. The points were collected using a predefined attribute design, enabling precise georeferencing through an averaging configuration of 60 seconds per position. In some cases, the correction didn't work, so in these cases, we used the tree scheme, which was designed in the field for each plot. In addition, this feature contains information about aerial biomass collected in the field, related to canopy, DAP, species, and height</statement>
<dataSource>
<srcDesc>The area of interest (AOI) was defined by the following: the 30-meter resolution layer developed by Simard et al. (2019), the Cienaga Mangrove layer of 2023 at a 1:25,000 scale, and the boundaries of the Salamanca Island Via Park Protected Natural Area (RUNAP)</srcDesc>
<srcScale>
<rfDenom>25000</rfDenom>
</srcScale>
</dataSource>
</dataLineage>
</dqInfo>
<spatRepInfo>
<VectSpatRep>
<topLvl>
<TopoLevCd value="001"/>
</topLvl>
<geometObjs>
<geoObjTyp>
<GeoObjTypCd value="004"/>
</geoObjTyp>
<geoObjCnt>20</geoObjCnt>
</geometObjs>
</VectSpatRep>
</spatRepInfo>
<spatRepInfo>
<Georect>
<numDims>2</numDims>
<axisDimension type="002">
<dimSize>2397</dimSize>
<dimResol>
<value uom="m">10.000000</value>
</dimResol>
</axisDimension>
<axisDimension type="001">
<dimSize>1326</dimSize>
<dimResol>
<value uom="m">10.000000</value>
</dimResol>
</axisDimension>
<cellGeo>
<CellGeoCd Sync="TRUE" value="002"/>
</cellGeo>
<tranParaAv>true</tranParaAv>
<chkPtAv>false</chkPtAv>
<cornerPts gmlID="ID2DPXBK0VETWPECRBNDIPZMOJSDFYKL1VCFKXFDJZC0DHVBAGRZ1F">
<pos>517588.364252 1211834.372620</pos>
</cornerPts>
<cornerPts gmlID="IDQTPT3USWF1D4GGPIHSD4JDWKRDFLT3YD4KTOE2IP3V3EGDAQAGUB">
<pos>517588.364252 1225094.372620</pos>
</cornerPts>
<cornerPts gmlID="IDAGDXIQCDSBUODJZX3ZNN03IL2LSFWVNOK32YCDTYWBOQ2B25FXE">
<pos>541558.364252 1225094.372620</pos>
</cornerPts>
<cornerPts gmlID="IDJIK55RIV0GL0KMWFE44WLRMRTMPLGHN50FLZS1MFWMRLAIYU3TPL">
<pos>541558.364252 1211834.372620</pos>
</cornerPts>
<centerPt gmlID="IDEH3JPGM4DUPAFHZEFWRVHL0CVBBOEQJZ5GI1WDYNBCDRNRH1I0D">
<pos>529573.364252 1218464.372620</pos>
</centerPt>
<ptInPixel>
<PixOrientCd Sync="TRUE" value="001"/>
</ptInPixel>
</Georect>
</spatRepInfo>
<spatRepInfo>
<VectSpatRep>
<topLvl>
<TopoLevCd value="001"/>
</topLvl>
<geometObjs>
<geoObjTyp>
<GeoObjTypCd value="004"/>
</geoObjTyp>
<geoObjCnt>20</geoObjCnt>
</geometObjs>
</VectSpatRep>
</spatRepInfo>
<spatRepInfo>
<Georect>
<numDims>2</numDims>
<axisDimension type="002">
<dimSize>2397</dimSize>
<dimResol>
<value uom="m">10.000000</value>
</dimResol>
</axisDimension>
<axisDimension type="001">
<dimSize>1326</dimSize>
<dimResol>
<value uom="m">10.000000</value>
</dimResol>
</axisDimension>
<cellGeo>
<CellGeoCd Sync="TRUE" value="002"/>
</cellGeo>
<tranParaAv>true</tranParaAv>
<chkPtAv>false</chkPtAv>
<cornerPts gmlID="IDCR4MYQMNUHM3H5KJZ2FCHSBHHILCWQDKMSYVXBTNMVTKU5Z3KQD">
<pos>517588.364252 1211834.372620</pos>
</cornerPts>
<cornerPts gmlID="IDMKZUKZUC4DHOGZGDDPYBOEW41FV0IK5UZY1YUDKXPCLFCSZANIYN">
<pos>517588.364252 1225094.372620</pos>
</cornerPts>
<cornerPts gmlID="IDRUDNO3OVUSZZHCJYY3VKMDTOKCH0XEJNJRLPMMMMRXSL0DC3GJPO">
<pos>541558.364252 1225094.372620</pos>
</cornerPts>
<cornerPts gmlID="IDRLMQKOS5OJQOKRB2JFZ20DOIOPUFITT0A5PAYFGVPB3EGEXUGLLP">
<pos>541558.364252 1211834.372620</pos>
</cornerPts>
<centerPt gmlID="IDSJGPV4301V4LPCVMHEQPESGBG41Q0HVLISHEGAOT2A3VECUNWH">
<pos>529573.364252 1218464.372620</pos>
</centerPt>
<ptInPixel>
<PixOrientCd Sync="TRUE" value="001"/>
</ptInPixel>
</Georect>
</spatRepInfo>
<refSysInfo>
<RefSystem>
<refSysID>
<identCode code="9377"/>
<idCodeSpace>EPSG</idCodeSpace>
<identVrsn>9.8.8(3.0.1)</identVrsn>
<idVersion Sync="TRUE">9.8.8(3.0.1)</idVersion>
</refSysID>
</RefSystem>
</refSysInfo>
<contInfo>
<ImgDesc>
<contentTyp>
<ContentTypCd Sync="TRUE" value="001"/>
</contentTyp>
<covDim>
<Band>
<dimDescrp>Band_1</dimDescrp>
<maxVal>407.70343</maxVal>
<minVal>229.092804</minVal>
<valUnit>
<UOM gmlID="IDU45YLKJD2R3UMIJVUE35GCOULBLLVBAHUTVELXGW5DTM3SQLDRY" type="length">
<gmlIdent codeSpace="GML_UomSymbol">Unified Code of Units of Measure</gmlIdent>
</UOM>
</valUnit>
<bitsPerVal>32</bitsPerVal>
</Band>
</covDim>
<trianInd>false</trianInd>
<radCalDatAv>false</radCalDatAv>
<camCalInAv>false</camCalInAv>
<filmDistInAv>false</filmDistInAv>
<lensDistInAv>false</lensDistInAv>
</ImgDesc>
</contInfo>
</metadata>
