{
 "currentVersion": 11.4,
 "serviceDescription": "vm2023_tif",
 "name": "vm2023_tif",
 "description": "",
 "extent": {
  "xmin": 378720,
  "ymin": 1016530,
  "xmax": 451800,
  "ymax": 1081000,
  "spatialReference": {
   "wkid": 32618,
   "latestWkid": 32618
  }
 },
 "initialExtent": {
  "xmin": 378720,
  "ymin": 1016530,
  "xmax": 451800,
  "ymax": 1081000,
  "spatialReference": {
   "wkid": 32618,
   "latestWkid": 32618
  }
 },
 "fullExtent": {
  "xmin": 378720,
  "ymin": 1016530,
  "xmax": 451800,
  "ymax": 1081000,
  "spatialReference": {
   "wkid": 32618,
   "latestWkid": 32618
  }
 },
 "sortableFields": "",
 "bandCount": 10,
 "pixelType": "F32",
 "minValues": [
  9.9999997473788E-5,
  3.9999998989515E-4,
  1.9999999494758E-4,
  9.9999997473788E-5,
  9.9999997473788E-5,
  9.9999997473788E-5,
  9.9999997473788E-5,
  9.9999997473788E-5,
  0.0035999999381602,
  0.0015000000130385
 ],
 "maxValues": [
  0.62639999389648,
  0.68879997730255,
  0.74479997158051,
  0.81770002841949,
  0.79640001058578,
  0.78670001029968,
  0.79040002822876,
  0.80119997262955,
  0.8115000128746,
  1.614599943161
 ],
 "meanValues": [
  0.051322381754395,
  0.075370823351326,
  0.080327899997208,
  0.12506055316896,
  0.20279246045467,
  0.23493007342976,
  0.24548759870349,
  0.26895543209714,
  0.26392893224484,
  0.16145203444883
 ],
 "stdvValues": [
  0.020226614978644,
  0.022627712613714,
  0.036433574651072,
  0.036812550968818,
  0.054280261342079,
  0.065454975802891,
  0.071135767682963,
  0.074962849777806,
  0.10946541952816,
  0.077798859387681
 ],
 "hasMultidimensions": false,
 "pixelSizeX": 10,
 "pixelSizeY": 10,
 "meanPixelSize": 10,
 "datasetFormat": "TIFF",
 "uncompressedSize": 1884587040,
 "blockWidth": 128,
 "blockHeight": 128,
 "compressionType": "None",
 "bandNames": [
  "Band_1",
  "Band_2",
  "Band_3",
  "Band_4",
  "Band_5",
  "Band_6",
  "Band_7",
  "Band_8",
  "Band_9",
  "Band_10"
 ],
 "allowCopy": true,
 "allowAnalysis": true,
 "itemAccess": false,
 "inspectionCapabilities": "",
 "noDataValue": -3.4028234663852886E38,
 "noDataValues": [
  -3.4028234663852886E38,
  -3.4028234663852886E38,
  -3.4028234663852886E38,
  -3.4028234663852886E38,
  -3.4028234663852886E38,
  -3.4028234663852886E38,
  -3.4028234663852886E38,
  -3.4028234663852886E38,
  -3.4028234663852886E38,
  -3.4028234663852886E38
 ],
 "minPixelSize": 0,
 "maxPixelSize": 0,
 "copyrightText": "",
 "serviceDataType": "esriImageServiceDataTypeGeneric",
 "serviceSourceType": "esriImageServiceSourceTypeDataset",
 "objectIdField": "",
 "fields": [],
 "capabilities": "Image,Metadata,Mensuration",
 "defaultMosaicMethod": "Center",
 "allowedMosaicMethods": "",
 "sortField": "",
 "sortValue": null,
 "sortAscending": true,
 "mosaicOperator": "First",
 "defaultCompressionQuality": 75,
 "defaultResamplingMethod": "Bilinear",
 "maxImageHeight": 4100,
 "maxImageWidth": 15000,
 "allowRasterFunction": true,
 "rasterFunctionInfos": [
  {
   "name": "None",
   "description": "",
   "help": ""
  }
 ],
 "rasterTypeInfos": [
  {
   "name": "Raster Dataset",
   "description": "Supports all ArcGIS Raster Datasets",
   "help": ""
  }
 ],
 "mensurationCapabilities": "Basic",
 "hasHistograms": true,
 "hasColormap": false,
 "hasRasterAttributeTable": false,
 "minScale": 0,
 "maxScale": 0,
 "exportTilesAllowed": false,
 "supportsStatistics": false,
 "supportsAdvancedQueries": false,
 "editFieldsInfo": null,
 "ownershipBasedAccessControlForRasters": null,
 "allowComputeTiePoints": false,
 "useStandardizedQueries": true,
 "advancedQueryCapabilities": {
  "useStandardizedQueries": true,
  "supportsStatistics": false,
  "supportsOrderBy": false,
  "supportsDistinct": false,
  "supportsPagination": false
 },
 "spatialReference": {
  "wkid": 32618,
  "latestWkid": 32618
 }
}
