{
 "currentVersion": 11.4,
 "serviceDescription": "vm2015_tif",
 "name": "vm2015_tif",
 "description": "",
 "extent": {
  "xmin": -76.10428272379333,
  "ymin": 9.194436596020127,
  "xmax": -75.43925991895965,
  "ymax": 9.778611025283052,
  "spatialReference": {
   "wkid": 4326,
   "latestWkid": 4326
  }
 },
 "initialExtent": {
  "xmin": -76.10428272379333,
  "ymin": 9.194436596020127,
  "xmax": -75.43925991895965,
  "ymax": 9.778611025283052,
  "spatialReference": {
   "wkid": 4326,
   "latestWkid": 4326
  }
 },
 "fullExtent": {
  "xmin": -76.10428272379333,
  "ymin": 9.194436596020127,
  "xmax": -75.43925991895965,
  "ymax": 9.778611025283052,
  "spatialReference": {
   "wkid": 4326,
   "latestWkid": 4326
  }
 },
 "sortableFields": "",
 "bandCount": 10,
 "pixelType": "S16",
 "minValues": [
  -45,
  219,
  103,
  100,
  81,
  57,
  148,
  -36,
  6,
  7
 ],
 "maxValues": [
  6547,
  6808,
  6447,
  5306,
  5637,
  6219,
  7128,
  6910,
  15628,
  17087
 ],
 "meanValues": [
  418.27325520335,
  730.93360027973,
  584.93248844246,
  943.5832643727,
  2311.616076943,
  2848.7564475201,
  2631.3336086844,
  3320.6634246065,
  1878.2307129679,
  881.69062090974
 ],
 "stdvValues": [
  136.89776522765,
  184.29276478947,
  249.44744215465,
  254.00834192704,
  655.24094031056,
  831.47410747057,
  798.82472129718,
  982.21380953409,
  745.36979989444,
  440.92480127297
 ],
 "hasMultidimensions": false,
 "pixelSizeX": 8.98315284119523E-5,
 "pixelSizeY": 8.983152841195213E-5,
 "meanPixelSize": 10.000000000000007,
 "datasetFormat": "TIFF",
 "uncompressedSize": 962704120,
 "blockWidth": 128,
 "blockHeight": 128,
 "compressionType": "LZW",
 "bandNames": [
  "B2",
  "B3",
  "B4",
  "B5",
  "B6",
  "B7",
  "B8",
  "B8A",
  "B11",
  "B12"
 ],
 "allowCopy": true,
 "allowAnalysis": true,
 "itemAccess": false,
 "inspectionCapabilities": "",
 "noDataValue": -32768,
 "noDataValues": [
  -32768,
  -32768,
  -32768,
  -32768,
  -32768,
  -32768,
  -32768,
  -32768,
  -32768,
  -32768
 ],
 "minPixelSize": 0,
 "maxPixelSize": 0,
 "copyrightText": "",
 "serviceDataType": "esriImageServiceDataTypeGeneric",
 "serviceSourceType": "esriImageServiceSourceTypeDataset",
 "objectIdField": "",
 "fields": [],
 "capabilities": "Image,Metadata,Mensuration",
 "defaultMosaicMethod": "Center",
 "allowedMosaicMethods": "",
 "sortField": "",
 "sortValue": null,
 "sortAscending": true,
 "mosaicOperator": "First",
 "defaultCompressionQuality": 75,
 "defaultResamplingMethod": "Bilinear",
 "maxImageHeight": 4100,
 "maxImageWidth": 15000,
 "allowRasterFunction": true,
 "rasterFunctionInfos": [
  {
   "name": "None",
   "description": "",
   "help": ""
  }
 ],
 "rasterTypeInfos": [
  {
   "name": "Raster Dataset",
   "description": "Supports all ArcGIS Raster Datasets",
   "help": ""
  }
 ],
 "mensurationCapabilities": "Basic",
 "hasHistograms": true,
 "hasColormap": false,
 "hasRasterAttributeTable": false,
 "minScale": 0,
 "maxScale": 0,
 "exportTilesAllowed": false,
 "supportsStatistics": false,
 "supportsAdvancedQueries": false,
 "editFieldsInfo": null,
 "ownershipBasedAccessControlForRasters": null,
 "allowComputeTiePoints": false,
 "useStandardizedQueries": true,
 "advancedQueryCapabilities": {
  "useStandardizedQueries": true,
  "supportsStatistics": false,
  "supportsOrderBy": false,
  "supportsDistinct": false,
  "supportsPagination": false
 },
 "spatialReference": {
  "wkid": 4326,
  "latestWkid": 4326
 }
}
