{ "currentVersion": 11.4, "serviceDescription": "
This product is a raster map in GeoTIFF format with a spatial resolution of 10 m/px, representing the estimated Aboveground Biomass (AGB) of mangroves in the northwestern sector of the Vía Parque Isla de Salamanca (VIPIS) in 2025. The area is located on the Caribbean coast of Colombia, in the department of Magdalena. The dataset was generated through the integration of Sentinel-1 (radar) and Sentinel-2 (optical) satellite imagery, canopy height data, and field measurements from 20 plots, complemented with additional measurements from Colombian mangroves with similar ecological characteristics available in SIGMA.The methodology employed machine learning techniques (Random Forest) to train and validate predictive AGB models, using validation metrics such as the Root Mean Square Error (RMSE = 152.545). Satellite imagery was processed in Google Earth Engine to generate dry-season mosaics (January\u2013April 2025) and extract relevant spectral, textural, and structural variables. The mapped area covers approximately 6,000 hectares of mangroves within the northwestern boundaries of VIPIS, projected in UTM Zone 18N (EPSG:32618). This product is part of the Quantifying Colombian Mangroves Aboveground Biomass and Carbon Content \u2013 VIPIS Case (2025) project, developed by CTTC and INVEMAR.<\/SPAN><\/P><\/DIV><\/DIV>",
"name": "Digital_model_of_AGB_VIPIS_2025",
"description": " This product is a raster map in GeoTIFF format with a spatial resolution of 10 m/px, representing the estimated Aboveground Biomass (AGB) of mangroves in the northwestern sector of the Vía Parque Isla de Salamanca (VIPIS) in 2025. The area is located on the Caribbean coast of Colombia, in the department of Magdalena. The dataset was generated through the integration of Sentinel-1 (radar) and Sentinel-2 (optical) satellite imagery, canopy height data, and field measurements from 20 plots, complemented with additional measurements from Colombian mangroves with similar ecological characteristics available in SIGMA.The methodology employed machine learning techniques (Random Forest) to train and validate predictive AGB models, using validation metrics such as the Root Mean Square Error (RMSE = 152.545). Satellite imagery was processed in Google Earth Engine to generate dry-season mosaics (January\u2013April 2025) and extract relevant spectral, textural, and structural variables. The mapped area covers approximately 6,000 hectares of mangroves within the northwestern boundaries of VIPIS, projected in UTM Zone 18N (EPSG:32618). This product is part of the Quantifying Colombian Mangroves Aboveground Biomass and Carbon Content \u2013 VIPIS Case (2025) project, developed by CTTC and INVEMAR.<\/SPAN><\/P><\/DIV><\/DIV>",
"extent": {
"xmin": 517588.3642515604,
"ymin": 1211834.372620342,
"xmax": 541558.3642515604,
"ymax": 1225094.372620342,
"spatialReference": {
"wkid": 32618,
"latestWkid": 32618
}
},
"initialExtent": {
"xmin": 517588.3642515604,
"ymin": 1211834.372620342,
"xmax": 541558.3642515604,
"ymax": 1225094.372620342,
"spatialReference": {
"wkid": 32618,
"latestWkid": 32618
}
},
"fullExtent": {
"xmin": 517588.3642515604,
"ymin": 1211834.372620342,
"xmax": 541558.3642515604,
"ymax": 1225094.372620342,
"spatialReference": {
"wkid": 32618,
"latestWkid": 32618
}
},
"sortableFields": "",
"bandCount": 1,
"pixelType": "F64",
"minValues": [
229.09280395508
],
"maxValues": [
407.70343017578
],
"meanValues": [
332.29312285948
],
"stdvValues": [
59.490546269427
],
"hasMultidimensions": false,
"pixelSizeX": 10,
"pixelSizeY": 10,
"meanPixelSize": 10,
"datasetFormat": "TIFF",
"uncompressedSize": 25427376,
"blockWidth": 128,
"blockHeight": 128,
"compressionType": "None",
"bandNames": [
"Band_1"
],
"allowCopy": true,
"allowAnalysis": true,
"itemAccess": false,
"inspectionCapabilities": "",
"noDataValue": -9999,
"noDataValues": [
-9999
],
"minPixelSize": 0,
"maxPixelSize": 0,
"copyrightText": "This information was generated as part of a project carried out in collaboration between the Institute of Marine and Coastal Research (INVEMAR) and the Centre Tecnològic de Telecomunicacions de Catalunya (CTTC). \n\nThis work was carried out with support from Lacuna Fund and Deutsche Gesellschaft für Internationale Zusammenarbeit (GIZ).\n\nThe views expressed herein do not necessarily represent those of Lacuna Fund, its Steering Committee, its funders, or Meridian Institute.",
"serviceDataType": "esriImageServiceDataTypeGeneric",
"serviceSourceType": "esriImageServiceSourceTypeDataset",
"objectIdField": "",
"fields": [],
"capabilities": "Image,Metadata,Mensuration",
"defaultMosaicMethod": "Center",
"allowedMosaicMethods": "",
"sortField": "",
"sortValue": null,
"sortAscending": true,
"mosaicOperator": "First",
"defaultCompressionQuality": 75,
"defaultResamplingMethod": "Bilinear",
"maxImageHeight": 4100,
"maxImageWidth": 15000,
"allowRasterFunction": true,
"rasterFunctionInfos": [
{
"name": "None",
"description": "",
"help": ""
}
],
"rasterTypeInfos": [
{
"name": "Raster Dataset",
"description": "Supports all ArcGIS Raster Datasets",
"help": ""
}
],
"mensurationCapabilities": "Basic",
"hasHistograms": true,
"hasColormap": false,
"hasRasterAttributeTable": false,
"minScale": 0,
"maxScale": 0,
"exportTilesAllowed": false,
"supportsStatistics": false,
"supportsAdvancedQueries": false,
"editFieldsInfo": null,
"ownershipBasedAccessControlForRasters": null,
"allowComputeTiePoints": false,
"useStandardizedQueries": true,
"advancedQueryCapabilities": {
"useStandardizedQueries": true,
"supportsStatistics": false,
"supportsOrderBy": false,
"supportsDistinct": false,
"supportsPagination": false
},
"spatialReference": {
"wkid": 32618,
"latestWkid": 32618
}
}